BEGIN:VCALENDAR
VERSION:2.0
PRODID:-//https://www.trampofthecentury.com///NONSGML kigkonsult.se iCalcreator 2.10.15//
METHOD:PUBLISH
BEGIN:VEVENT
UID:20260420T094946UTC-0991NhvWs8@https://www.trampofthecentury.com/
DTSTAMP:20260420T094946Z
DESCRIPTION: https://www.trampofthecentury.com/fr/spectacles/evenement/207-
 salle-jean-michel-bergot
DTSTART:20261107T200000Z
DTEND:20261107T213000Z
LOCATION:Salle Jean-Michel-Bergot\, 425 Blainville Est\, Ste-Thérèse\, QC\,
  Canada (425 Blainville Est\, Ste-Thérèse\, QC\, Canada)
SUMMARY:Salle Jean-Michel-Bergot    
URL:https://www.trampofthecentury.com/fr/spectacles/evenement/207-salle-jea
 n-michel-bergot
END:VEVENT
END:VCALENDAR
